BEGIN:VCALENDAR
VERSION:2.0
PRODID:-//dreamersplaceranch.org//NONSGML kigkonsult.se iCalcreator 2.30.10
 //
CALSCALE:GREGORIAN
METHOD:PUBLISH
UID:75d948ca-537e-4d94-ba61-6a840646a066
X-WR-CALDESC:A portion of proceeds will be donated to Dreamer's Place Ranch
X-WR-RELCALID:5bc5dd26eecb0db9ed65d5e13e387681
X-WR-TIMEZONE:America/Chicago
BEGIN:VTIMEZONE
TZID:America/Chicago
BEGIN:STANDARD
TZNAME:CST
DTSTART:20251102T020000
TZOFFSETFROM:-0500
TZOFFSETTO:-0600
RDATE:20261101T020000
END:STANDARD
BEGIN:DAYLIGHT
TZNAME:CDT
DTSTART:20260308T020000
TZOFFSETFROM:-0600
TZOFFSETTO:-0500
RDATE:20270314T020000
END:DAYLIGHT
END:VTIMEZONE
BEGIN:VEVENT
UID:2f99fc8e-cd4d-43ba-abb3-227126fbe378
DTSTAMP:20260422T223836Z
DESCRIPTION:A portion of proceeds will be donated to Dreamer's Place Ranch
DTSTART;TZID=America/Chicago:20260502T170000
DTEND;TZID=America/Chicago:20260502T200000
LOCATION:85726 575th Ave\, WAYNE\, NE 68787 US
SUMMARY:Kentucky Derby Day
END:VEVENT
END:VCALENDAR
