BEGIN:VCALENDAR
VERSION:2.0
PRODID:-//dreamersplaceranch.org//NONSGML kigkonsult.se iCalcreator 2.30.10
 //
CALSCALE:GREGORIAN
METHOD:PUBLISH
UID:ef82dd9f-6b84-47d6-b289-f8dea5a1f24c
X-WR-CALDESC:BBQ\, Family Activities\, and Raffles\n\n!!!!!FREE!!!!!!
X-WR-RELCALID:90a5ad577b10dae1ab6d5065473b0a75
X-WR-TIMEZONE:America/Chicago
BEGIN:VTIMEZONE
TZID:America/Chicago
BEGIN:STANDARD
TZNAME:CST
DTSTART:20251102T020000
TZOFFSETFROM:-0500
TZOFFSETTO:-0600
RDATE:20261101T020000
RDATE:20271107T020000
END:STANDARD
BEGIN:DAYLIGHT
TZNAME:CDT
DTSTART:20260308T020000
TZOFFSETFROM:-0600
TZOFFSETTO:-0500
RDATE:20270314T020000
END:DAYLIGHT
END:VTIMEZONE
BEGIN:VEVENT
UID:0ef2e60e-3751-46a8-a62a-3899107bd8c7
DTSTAMP:20260422T195527Z
DESCRIPTION:BBQ\, Family Activities\, and Raffles\n\n!!!!!FREE!!!!!!
DTSTART;TZID=America/Chicago:20260525T170000
DTEND;TZID=America/Chicago:20260525T230000
LOCATION:85726 575th Ave\, WAYNE\, NE 68787 US
SUMMARY:Memorial Day 3rd Annual Anniversary
END:VEVENT
END:VCALENDAR
