BEGIN:VCALENDAR
VERSION:2.0
PRODID:-//dreamersplaceranch.org//NONSGML kigkonsult.se iCalcreator 2.30.10
 //
CALSCALE:GREGORIAN
METHOD:PUBLISH
UID:83cc1b33-b5ba-4f54-81b3-afd4aa5ccac6
X-WR-CALDESC:Service units come spend time with the animals
X-WR-RELCALID:48ee201da15c96779ff7aa66751e3508
X-WR-TIMEZONE:America/Chicago
BEGIN:VTIMEZONE
TZID:America/Chicago
BEGIN:STANDARD
TZNAME:CST
DTSTART:20271107T020000
TZOFFSETFROM:-0500
TZOFFSETTO:-0600
RDATE:20281105T020000
END:STANDARD
BEGIN:DAYLIGHT
TZNAME:CDT
DTSTART:20270314T020000
TZOFFSETFROM:-0600
TZOFFSETTO:-0500
RDATE:20280312T020000
RDATE:20290311T020000
END:DAYLIGHT
END:VTIMEZONE
BEGIN:VEVENT
UID:96a36602-0277-45df-85e6-1d59a7a09fcb
DTSTAMP:20260419T144040Z
DESCRIPTION:Service units come spend time with the animals
DTSTART;TZID=America/Chicago:20271117T100000
DTEND;TZID=America/Chicago:20271117T150000
LOCATION:85726 575th Ave\, WAYNE\, NE 68787 US
SUMMARY:Group C
END:VEVENT
END:VCALENDAR
