BEGIN:VCALENDAR
VERSION:2.0
PRODID:-//dreamersplaceranch.org//NONSGML kigkonsult.se iCalcreator 2.30.10
 //
CALSCALE:GREGORIAN
METHOD:PUBLISH
UID:bd24e3c0-59cd-4252-93f8-7e09a0c9a883
X-WR-CALDESC:Service units come spend time with the animals
X-WR-RELCALID:00671dfd64901446d3aef19bdc15c0f8
X-WR-TIMEZONE:America/Chicago
BEGIN:VTIMEZONE
TZID:America/Chicago
BEGIN:STANDARD
TZNAME:CST
DTSTART:20271107T020000
TZOFFSETFROM:-0500
TZOFFSETTO:-0600
RDATE:20281105T020000
END:STANDARD
BEGIN:DAYLIGHT
TZNAME:CDT
DTSTART:20270314T020000
TZOFFSETFROM:-0600
TZOFFSETTO:-0500
RDATE:20280312T020000
RDATE:20290311T020000
END:DAYLIGHT
END:VTIMEZONE
BEGIN:VEVENT
UID:0db4ce84-9f27-4ee1-b218-b2b5f32e0e61
DTSTAMP:20260419T144515Z
DESCRIPTION:Service units come spend time with the animals
DTSTART;TZID=America/Chicago:20271125T100000
DTEND;TZID=America/Chicago:20271125T150000
LOCATION:85726 575th Ave\, WAYNE\, NE 68787 US
SUMMARY:Group D
END:VEVENT
END:VCALENDAR
